BEGIN:VCALENDAR
VERSION:2.0
PRODID:-//Discover Cheddar - ECPv6.15.20//NONSGML v1.0//EN
CALSCALE:GREGORIAN
METHOD:PUBLISH
X-WR-CALNAME:Discover Cheddar
X-ORIGINAL-URL:https://discovercheddar.co.uk
X-WR-CALDESC:Events for Discover Cheddar
REFRESH-INTERVAL;VALUE=DURATION:PT1H
X-Robots-Tag:noindex
X-PUBLISHED-TTL:PT1H
BEGIN:VTIMEZONE
TZID:Europe/London
BEGIN:DAYLIGHT
TZOFFSETFROM:+0000
TZOFFSETTO:+0100
TZNAME:BST
DTSTART:20250330T010000
END:DAYLIGHT
BEGIN:STANDARD
TZOFFSETFROM:+0100
TZOFFSETTO:+0000
TZNAME:GMT
DTSTART:20251026T010000
END:STANDARD
BEGIN:DAYLIGHT
TZOFFSETFROM:+0000
TZOFFSETTO:+0100
TZNAME:BST
DTSTART:20260329T010000
END:DAYLIGHT
BEGIN:STANDARD
TZOFFSETFROM:+0100
TZOFFSETTO:+0000
TZNAME:GMT
DTSTART:20261025T010000
END:STANDARD
BEGIN:DAYLIGHT
TZOFFSETFROM:+0000
TZOFFSETTO:+0100
TZNAME:BST
DTSTART:20270328T010000
END:DAYLIGHT
BEGIN:STANDARD
TZOFFSETFROM:+0100
TZOFFSETTO:+0000
TZNAME:GMT
DTSTART:20271031T010000
END:STANDARD
END:VTIMEZONE
BEGIN:VEVENT
DTSTART;VALUE=DATE:20260328
DTEND;VALUE=DATE:20260601
DTSTAMP:20260424T152033
CREATED:20260225T134239Z
LAST-MODIFIED:20260302T101426Z
UID:4830-1774656000-1780271999@discovercheddar.co.uk
SUMMARY:The Illuminated Cave with Wallace & Gromit and Friends
DESCRIPTION:Tickets On Sale Now! The Illuminated Cave with Wallace & Gromit and Friends at Cheddar Gorge & Caves\nDeep underground\, Gough’s Cave will become a glowing\, immersive experience.  From cheeky heroes to unforgettable friends\, beautifully illuminated lanterns bring to life some of the most iconic scenes from Aardman.  Explorers of all ages can follow the illuminated trail through the cave and try to crack the secret code.  Aardman themed arts and crafts add a creative hands-on element to the day out.
URL:https://discovercheddar.co.uk/event/the-illuminated-cave-with-wallace-gromit-and-friends/
LOCATION:Cheddar Caves\, Cheddar Gorge and Caves\, Cheddar\, BS27 3QF\, United Kingdom
ATTACH;FMTTYPE=image/webp:https://discovercheddar.co.uk/wp-content/uploads/2026/02/Wallace-Gromit-and-Friends.webp
END:VEVENT
BEGIN:VEVENT
DTSTART;TZID=Europe/London:20260502T103000
DTEND;TZID=Europe/London:20260504T163000
DTSTAMP:20260424T152033
CREATED:20260330T090500Z
LAST-MODIFIED:20260330T090600Z
UID:4867-1777717800-1777912200@discovercheddar.co.uk
SUMMARY:The Cheddar Arts Trail
DESCRIPTION:The Cheddar Arts Trail\n2-4 May\, 10.30am-4.30pm \nThe popular annual walking trail around Cheddar village presented by CHAFF.  See the work of local artists in their studios and other venues.  Exhibitors include painters\, illustrators\, sculptors\, ceramicists\, photographers and textile artists.
URL:https://discovercheddar.co.uk/event/the-cheddar-arts-trail/
LOCATION:Cheddar Village\, Cheddar\, United Kingdom
ATTACH;FMTTYPE=image/webp:https://discovercheddar.co.uk/wp-content/uploads/2026/03/Cheddar-Arts-Trail.webp
ORGANIZER;CN="Cheddar Artists":MAILTO:info@cheddarartists.co.uk
END:VEVENT
END:VCALENDAR